BEGIN:VCALENDAR
VERSION:2.0
PRODID:-//Deposito Dental StarDent.  - ECPv6.15.20//NONSGML v1.0//EN
CALSCALE:GREGORIAN
METHOD:PUBLISH
X-WR-CALNAME:Deposito Dental StarDent. 
X-ORIGINAL-URL:https://stardentsv.com
X-WR-CALDESC:Eventos para Deposito Dental StarDent. 
REFRESH-INTERVAL;VALUE=DURATION:PT1H
X-Robots-Tag:noindex
X-PUBLISHED-TTL:PT1H
BEGIN:VTIMEZONE
TZID:America/Chicago
BEGIN:DAYLIGHT
TZOFFSETFROM:-0600
TZOFFSETTO:-0500
TZNAME:CDT
DTSTART:20240310T080000
END:DAYLIGHT
BEGIN:STANDARD
TZOFFSETFROM:-0500
TZOFFSETTO:-0600
TZNAME:CST
DTSTART:20241103T070000
END:STANDARD
BEGIN:DAYLIGHT
TZOFFSETFROM:-0600
TZOFFSETTO:-0500
TZNAME:CDT
DTSTART:20250309T080000
END:DAYLIGHT
BEGIN:STANDARD
TZOFFSETFROM:-0500
TZOFFSETTO:-0600
TZNAME:CST
DTSTART:20251102T070000
END:STANDARD
BEGIN:DAYLIGHT
TZOFFSETFROM:-0600
TZOFFSETTO:-0500
TZNAME:CDT
DTSTART:20260308T080000
END:DAYLIGHT
BEGIN:STANDARD
TZOFFSETFROM:-0500
TZOFFSETTO:-0600
TZNAME:CST
DTSTART:20261101T070000
END:STANDARD
END:VTIMEZONE
BEGIN:VEVENT
DTSTART;TZID=America/Chicago:20251104T000000
DTEND;TZID=America/Chicago:20251108T235959
DTSTAMP:20260420T235823
CREATED:20250930T220523Z
LAST-MODIFIED:20251002T003351Z
UID:3256-1762214400-1762646399@stardentsv.com
SUMMARY:FOCAP 2025
DESCRIPTION:StarDent El Salvador te invita a conocer de primera mano las soluciones innovadoras de GMI en el Congreso FOCAP 2025\, del 4 al 8 de noviembre en el Hotel Barceló\, Ciudad de Guatemala. Visítanos en el stand de GMI y descubre el sistema Frontier\, kits quirúrgicos de alta precisión y la asesoría personalizada que solo StarDent puede ofrecer como distribuidor oficial.
URL:https://stardentsv.com/evento/focap-2025/
LOCATION:La Libertad
ATTACH;FMTTYPE=image/png:https://stardentsv.com/wp-content/uploads/2025/09/ChatGPT-Image-30-sept-2025-16_15_58.png
END:VEVENT
END:VCALENDAR