BEGIN:VCALENDAR
VERSION:2.0
PRODID:-//Deposito Dental StarDent.  - ECPv6.15.20//NONSGML v1.0//EN
CALSCALE:GREGORIAN
METHOD:PUBLISH
X-ORIGINAL-URL:https://stardentsv.com
X-WR-CALDESC:Eventos para Deposito Dental StarDent. 
REFRESH-INTERVAL;VALUE=DURATION:PT1H
X-Robots-Tag:noindex
X-PUBLISHED-TTL:PT1H
BEGIN:VTIMEZONE
TZID:America/Chicago
BEGIN:DAYLIGHT
TZOFFSETFROM:-0600
TZOFFSETTO:-0500
TZNAME:CDT
DTSTART:20240310T080000
END:DAYLIGHT
BEGIN:STANDARD
TZOFFSETFROM:-0500
TZOFFSETTO:-0600
TZNAME:CST
DTSTART:20241103T070000
END:STANDARD
BEGIN:DAYLIGHT
TZOFFSETFROM:-0600
TZOFFSETTO:-0500
TZNAME:CDT
DTSTART:20250309T080000
END:DAYLIGHT
BEGIN:STANDARD
TZOFFSETFROM:-0500
TZOFFSETTO:-0600
TZNAME:CST
DTSTART:20251102T070000
END:STANDARD
BEGIN:DAYLIGHT
TZOFFSETFROM:-0600
TZOFFSETTO:-0500
TZNAME:CDT
DTSTART:20260308T080000
END:DAYLIGHT
BEGIN:STANDARD
TZOFFSETFROM:-0500
TZOFFSETTO:-0600
TZNAME:CST
DTSTART:20261101T070000
END:STANDARD
END:VTIMEZONE
BEGIN:VEVENT
DTSTART;TZID=America/Chicago:20251007T083000
DTEND;TZID=America/Chicago:20251007T120000
DTSTAMP:20260421T002824
CREATED:20250917T163103Z
LAST-MODIFIED:20250917T165727Z
UID:3000-1759825800-1759838400@stardentsv.com
SUMMARY:Conferencia + workshop en USAM (estratificación con Resinas compuestas)
DESCRIPTION:
URL:https://stardentsv.com/evento/conferencia-workshop-en-usam-estratificacion-con-resinas-compuestas/
LOCATION:Universidad Salvadoreña Alberto Masferrer USAM\, 19 Avenida Nte\, San Salvador\, San Salvador\, El Salvador
CATEGORIES:Seminarios
ATTACH;FMTTYPE=image/jpeg:https://stardentsv.com/wp-content/uploads/2025/09/INVITACION-USAM.jpg
END:VEVENT
BEGIN:VEVENT
DTSTART;TZID=America/Chicago:20251008T140000
DTEND;TZID=America/Chicago:20251008T173000
DTSTAMP:20260421T002824
CREATED:20250917T165233Z
LAST-MODIFIED:20250917T165654Z
UID:3010-1759932000-1759944600@stardentsv.com
SUMMARY:Conferencia universitaria (Bases para la técnica Adhesiva Estratificada)
DESCRIPTION:
URL:https://stardentsv.com/evento/conferencia-universitaria-adicional-bases-para-la-tecnica-adhesiva-estratificada/
LOCATION:Universidad de El Salvador\, Final\, 25 Av. Norte\, San Salvador\, San Salvador\, El Salvador
CATEGORIES:Seminarios
ATTACH;FMTTYPE=image/jpeg:https://stardentsv.com/wp-content/uploads/2025/09/INVITACION-UES.jpg
END:VEVENT
END:VCALENDAR