BEGIN:VCALENDAR
VERSION:2.0
PRODID:-//Deposito Dental StarDent.  - ECPv6.15.20//NONSGML v1.0//EN
CALSCALE:GREGORIAN
METHOD:PUBLISH
X-ORIGINAL-URL:https://stardentsv.com
X-WR-CALDESC:Eventos para Deposito Dental StarDent. 
REFRESH-INTERVAL;VALUE=DURATION:PT1H
X-Robots-Tag:noindex
X-PUBLISHED-TTL:PT1H
BEGIN:VTIMEZONE
TZID:America/Chicago
BEGIN:DAYLIGHT
TZOFFSETFROM:-0600
TZOFFSETTO:-0500
TZNAME:CDT
DTSTART:20250309T080000
END:DAYLIGHT
BEGIN:STANDARD
TZOFFSETFROM:-0500
TZOFFSETTO:-0600
TZNAME:CST
DTSTART:20251102T070000
END:STANDARD
BEGIN:DAYLIGHT
TZOFFSETFROM:-0600
TZOFFSETTO:-0500
TZNAME:CDT
DTSTART:20260308T080000
END:DAYLIGHT
BEGIN:STANDARD
TZOFFSETFROM:-0500
TZOFFSETTO:-0600
TZNAME:CST
DTSTART:20261101T070000
END:STANDARD
BEGIN:DAYLIGHT
TZOFFSETFROM:-0600
TZOFFSETTO:-0500
TZNAME:CDT
DTSTART:20270314T080000
END:DAYLIGHT
BEGIN:STANDARD
TZOFFSETFROM:-0500
TZOFFSETTO:-0600
TZNAME:CST
DTSTART:20271107T070000
END:STANDARD
END:VTIMEZONE
BEGIN:VEVENT
DTSTART;TZID=America/Chicago:20260325T080000
DTEND;TZID=America/Chicago:20260325T120000
DTSTAMP:20260420T172627
CREATED:20260304T141610Z
LAST-MODIFIED:20260304T141610Z
UID:4245-1774425600-1774440000@stardentsv.com
SUMMARY:Restauraciones en el sector Anterior
DESCRIPTION:
URL:https://stardentsv.com/evento/restauraciones-en-el-sector-anterior/
LOCATION:Hotel Holiday Inn\, Santa Elena\, Antiguo Cuscatlán\, La Libertad\, 01502\, El Salvador
CATEGORIES:Conferencias
END:VEVENT
END:VCALENDAR